BEGIN:VCALENDAR
VERSION:2.0
PRODID:-//jEvents 2.0 for Joomla//EN
CALSCALE:GREGORIAN
METHOD:PUBLISH
BEGIN:VEVENT
UID:99f3c090af71fb8a3741e141ece72836
CATEGORIES:Leiterrunde
CREATED:20151220T104000
SUMMARY:Leiterrunde
LOCATION:im Pfarrzentrum (soweit nicht anders vereinbart)
DESCRIPTION:
DTSTAMP:20260421T054809
DTSTART:20161223T183000
SEQUENCE:0
TRANSP:OPAQUE
END:VEVENT
END:VCALENDAR