BEGIN:VCALENDAR
VERSION:2.0
PRODID:-//jEvents 2.0 for Joomla//EN
CALSCALE:GREGORIAN
METHOD:PUBLISH
BEGIN:VEVENT
UID:a6308ec3af9f082c449194913fbf3c45
CATEGORIES:Leiterrunde
CREATED:20180923T111609
SUMMARY:Leiterrunde
LOCATION:Pfarrzentrum Kirchdorf (soweit nicht anders vereinbart)
DESCRIPTION:
DTSTAMP:20260426T012131
DTSTART:20180907T173000
DTEND:20180907T200000
SEQUENCE:0
TRANSP:OPAQUE
END:VEVENT
END:VCALENDAR