BEGIN:VCALENDAR
VERSION:2.0
PRODID:-//jEvents 2.0 for Joomla//EN
CALSCALE:GREGORIAN
METHOD:PUBLISH
BEGIN:VEVENT
UID:99f3c090af71fb8a3741e141ece72836
CATEGORIES:Leiterrunde
CREATED:19700101T010000
SUMMARY:Leiterrunde
LOCATION:im Pfarrzentrum (soweit nicht anders vereinbart)
DESCRIPTION:
DTSTAMP:20260421T013548
DTSTART:20160108T183000
SEQUENCE:0
RRULE:FREQ=WEEKLY;UNTIL=20170101T000000Z;INTERVAL=2;BYDAY=FR
TRANSP:OPAQUE
END:VEVENT
BEGIN:VEVENT
UID:99f3c090af71fb8a3741e141ece72836
CATEGORIES:Leiterrunde
CREATED:20151220T104000
SUMMARY:Leiterrunde
LOCATION:im Pfarrzentrum (soweit nicht anders vereinbart)
DESCRIPTION:
URL;VALUE=URI:https://www.pfadfinder-kirchdorf.de/cms/index.php/termine/icalrepeat.detail
 /2016/12/30/94/-/leiterrunde?tmpl=component

DTSTAMP:20260421T013548
DTSTART:20161230T183000
DTEND:20161230T140000
RECURRENCE-ID:20161223T183000
SEQUENCE:0
TRANSP:OPAQUE
END:VEVENT
END:VCALENDAR