BEGIN:VCALENDAR
VERSION:2.0
PRODID:-//jEvents 2.0 for Joomla//EN
CALSCALE:GREGORIAN
METHOD:PUBLISH
BEGIN:VEVENT
UID:78911d13e3d63dd2bda9faf792c7edff
CATEGORIES:DPSG - Kirchdorf
CREATED:20231102T081817
SUMMARY:Nikolausaktion
LOCATION:Kirchdorf\, Simbach\, Julbach und Umgebung
DESCRIPTION:
DTSTAMP:20260422T191649
DTSTART;VALUE=DATE:20231204
DTEND;VALUE=DATE:20231207
SEQUENCE:0
TRANSP:OPAQUE
END:VEVENT
END:VCALENDAR