BEGIN:VCALENDAR
VERSION:2.0
PRODID:-//jEvents 2.0 for Joomla//EN
CALSCALE:GREGORIAN
METHOD:PUBLISH
BEGIN:VEVENT
UID:da3564db47d2b307c5a94bf0715b1fc3
CATEGORIES:DPSG - Kirchdorf
CREATED:20221106T093316
SUMMARY:Weihnachtsbaum-Sammelaktion
LOCATION:Kirchdorf\, Julbach\, Simbach und Umgebung
DESCRIPTION:
DTSTAMP:20260420T185526
DTSTART;VALUE=DATE:20230107
DTEND;VALUE=DATE:20230108
SEQUENCE:0
TRANSP:OPAQUE
END:VEVENT
END:VCALENDAR