BEGIN:VCALENDAR
VERSION:2.0
PRODID:-//jEvents 2.0 for Joomla//EN
CALSCALE:GREGORIAN
METHOD:PUBLISH
BEGIN:VEVENT
UID:b8db98458602d314bd5f95be5ca0a14d
CATEGORIES:DPSG - Kirchdorf
CREATED:20221028T202105
SUMMARY:Stammesversammlung
LOCATION:Pfarrzentrum - Kirchdorf am Inn
DESCRIPTION:
DTSTAMP:20260424T095709
DTSTART:20231112T080000
SEQUENCE:0
TRANSP:OPAQUE
END:VEVENT
END:VCALENDAR