BEGIN:VCALENDAR
VERSION:2.0
PRODID:-//jEvents 2.0 for Joomla//EN
CALSCALE:GREGORIAN
METHOD:PUBLISH
BEGIN:VEVENT
UID:74841726264f540077b1744746bd5e11
CATEGORIES:DPSG - Kirchdorf
CREATED:20191101T113622
SUMMARY:Stammesversammlung
DESCRIPTION:
DTSTAMP:20260420T162223
DTSTART;VALUE=DATE:20201003
DTEND;VALUE=DATE:20201004
SEQUENCE:0
TRANSP:OPAQUE
END:VEVENT
END:VCALENDAR