BEGIN:VCALENDAR
VERSION:2.0
PRODID:-//jEvents 2.0 for Joomla//EN
CALSCALE:GREGORIAN
METHOD:PUBLISH
BEGIN:VEVENT
UID:0bd0439701a362cd0d21e2762eeb6741
CATEGORIES:DPSG - Kirchdorf
CREATED:20190316T090439
SUMMARY:Rama Dama
LOCATION:Treffpunkt altes FW-Haus Kirchdorf am Inn
DESCRIPTION:Rama Dama Aktion in Kirchdorf, Julbach und Simbach\n
X-ALT-DESC;FMTTYPE=text/html:<p>Rama Dama Aktion in Kirchdorf, Julbach und Simbach</p>
DTSTAMP:20260425T222733
DTSTART:20190323T080000
SEQUENCE:0
TRANSP:OPAQUE
END:VEVENT
END:VCALENDAR