BEGIN:VCALENDAR
VERSION:2.0
PRODID:-//jEvents 2.0 for Joomla//EN
CALSCALE:GREGORIAN
METHOD:PUBLISH
BEGIN:VEVENT
UID:c2068b6b31325bd884636681b18541e1
CATEGORIES:DPSG - Diözese Passau, DPSG - Kirchdorf
CREATED:20161210T103054
SUMMARY:Diözesanaktion - Gillwell Express
LOCATION:London
DESCRIPTION:
DTSTAMP:20260426T014105
DTSTART;VALUE=DATE:20170810
DTEND;VALUE=DATE:20170820
SEQUENCE:0
TRANSP:OPAQUE
END:VEVENT
END:VCALENDAR