BEGIN:VCALENDAR
VERSION:2.0
PRODID:-//jEvents 2.0 for Joomla//EN
CALSCALE:GREGORIAN
METHOD:PUBLISH
BEGIN:VEVENT
UID:7dbb916c462fc0cd0130b97971576211
CATEGORIES:DPSG - Kirchdorf
CREATED:20161210T102808
SUMMARY:Stammeswochenende
DESCRIPTION:
DTSTAMP:20260422T104002
DTSTART;VALUE=DATE:20170428
DTEND;VALUE=DATE:20170501
SEQUENCE:0
TRANSP:OPAQUE
END:VEVENT
END:VCALENDAR